BEGIN:VCALENDAR
VERSION:2.0
PRODID:-//ChamberMaster//Event Calendar 2.0//EN
METHOD:PUBLISH
X-PUBLISHED-TTL:P3D
REFRESH-INTERVAL:P3D
CALSCALE:GREGORIAN
BEGIN:VEVENT
DTSTART:20210702T220000Z
DTEND:20210702T230000Z
X-MICROSOFT-CDO-ALLDAYEVENT:FALSE
SUMMARY:Allstate-Eric Boatner Ribbon Cutting
DESCRIPTION:Come join us and Allstate-Eric Boatner's Ribbon Cutting! Enjoy hotdogs and drinks while we watch them cut the red ribbon with the GIANT scissors!
X-ALT-DESC;FMTTYPE=text/html:Come join us and Allstate-Eric Boatner&#39\;s Ribbon Cutting! Enjoy hotdogs and drinks while we watch them cut the red ribbon with the GIANT scissors!
LOCATION:1525 N. Beaver St Flagstaff\, AZ 86001
UID:e.1660.24853
SEQUENCE:3
DTSTAMP:20260419T173605Z
URL:https://business.flagstaffchamber.com/events/details/allstate-eric-boatner-ribbon-cutting-24853
END:VEVENT

END:VCALENDAR
