BEGIN:VCALENDAR
VERSION:2.0
PRODID:-//ChamberMaster//Event Calendar 2.0//EN
METHOD:PUBLISH
X-PUBLISHED-TTL:P3D
REFRESH-INTERVAL:P3D
CALSCALE:GREGORIAN
BEGIN:VEVENT
DTSTART:20230728T003000Z
DTEND:20230728T023000Z
X-MICROSOFT-CDO-ALLDAYEVENT:FALSE
SUMMARY:"Business After 5" -Networking Mixer @ Canyon Coasters Adventure Park
DESCRIPTION:Please join The Greater Flagstaff Chamber of Commerce\, Canyon Coaster Adventure Park and dozens of Flagstaff's finest for our July "Business after 5" in Williams AZ.\n\n\n\nConnect with other Chamber members\, potential clients and business colleagues while enjoying coaster rides\, pizza\, hamburgers and hotdogs and wings. Have a cocktail or beer in their 12\,000 square foot clubhouse and bar where you can watch fellow chamber members ride the roller coaster on one of their 23 big screen TV's..\n\n\n\nA 50/50 raffle and other great raffle prizes will round out the evening. Cost to attend is $15/members\, $20/prospective members (one-time only please). Payable at the door. No registration required.
X-ALT-DESC;FMTTYPE=text/html:Please join The Greater Flagstaff Chamber of Commerce\, Canyon Coaster Adventure Park and dozens of Flagstaff&#39\;s finest for our July &quot\;Business after 5&quot\; in Williams AZ.<br />\n<br />\nConnect with other Chamber members\, potential clients and business colleagues while enjoying coaster rides\, pizza\, hamburgers and hotdogs and wings. Have a cocktail or beer in their 12\,000 square foot clubhouse and bar where you can watch fellow chamber members ride the roller coaster on one of their 23 big screen TV&#39\;s..<br />\n<br />\nA 50/50 raffle and other great raffle prizes will round out the evening. Cost to attend is $15/members\, $20/prospective members (one-time only please). Payable at the door. No registration required.
LOCATION:
UID:e.1660.28118
SEQUENCE:3
DTSTAMP:20260421T021315Z
URL:https://business.flagstaffchamber.com/events/details/business-after-5-networking-mixer-canyon-coasters-adventure-park-28118
END:VEVENT

END:VCALENDAR
