BEGIN:VCALENDAR
VERSION:2.0
PRODID:-//ChamberMaster//Event Calendar 2.0//EN
METHOD:PUBLISH
X-PUBLISHED-TTL:P3D
REFRESH-INTERVAL:P3D
CALSCALE:GREGORIAN
BEGIN:VEVENT
DTSTART:20260504T143000Z
DTEND:20260504T173000Z
X-MICROSOFT-CDO-ALLDAYEVENT:FALSE
SUMMARY:Economic Development Week Kick Off at Moonshot!
DESCRIPTION:Join us at Moonshot for coffee\, pastries and business resource connections to kick off the 2026 Economic Development Week!\n\n\n\n7:30 Coffee & Connections\n\n8:30  Intros & Business resources\n\n9:30 Community Engagement featuring Mother Road and Nackard
X-ALT-DESC;FMTTYPE=text/html:Join us at Moonshot for coffee\, pastries and business resource connections to kick off the 2026 Economic Development Week!<br />\n<br />\n7:30 Coffee &amp\; Connections<br />\n8:30&nbsp\; Intros &amp\; Business resources<br />\n9:30 Community Engagement featuring Mother Road and Nackard
LOCATION:Moonshot - City of Flagstaff Campus 2201 N Gemini Drive Accelerator Building\, B Flagstaff\, AZ 86001
UID:e.1660.36607
SEQUENCE:3
DTSTAMP:20260422T185613Z
URL:https://business.flagstaffchamber.com/events/details/economic-development-week-kick-off-at-moonshot-36607
END:VEVENT

END:VCALENDAR
