BEGIN:VCALENDAR
VERSION:2.0
PRODID:-//ChamberMaster//Event Calendar 2.0//EN
METHOD:PUBLISH
X-PUBLISHED-TTL:P3D
REFRESH-INTERVAL:P3D
CALSCALE:GREGORIAN
BEGIN:VEVENT
DTSTART;VALUE=DATE:20230805
DTEND;VALUE=DATE:20230807
TRANSP:TRANSPARENT
X-MICROSOFT-CDO-ALLDAYEVENT:TRUE
SUMMARY:Flagstaff Chili Festival
DESCRIPTION:Join us for a day of chili tasting. Cooks come from far and wide so they'll be lots of chili to sample and then vote for. A strolling musician will keep you entertained. Water\, soft drinks and a food truck will be onsite.
X-ALT-DESC;FMTTYPE=text/html:<span style="font-family: &quot\;IBM Plex Sans&quot\;\, -apple-system\, BlinkMacSystemFont\, &quot\;Segoe UI&quot\;\, Roboto\, Helvetica\, Arial\, sans-serif\; font-size: 15px\; background-color: rgb(255\, 255\, 255)\;">Join us for a day of chili tasting. Cooks come from far and wide so they&#39\;ll be lots of chili to sample and then vote for. A strolling musician will keep you entertained. Water\, soft drinks and a food truck will be onsite.</span><br />\n<br />\n&nbsp\;
LOCATION:Thorpe Park 191 North Thorpe Road Flagstaff\, AZ 86001
UID:e.1660.28117
SEQUENCE:3
DTSTAMP:20260421T020742Z
URL:https://business.flagstaffchamber.com/events/details/flagstaff-chili-festival-08-05-2023-28117
END:VEVENT

END:VCALENDAR
