BEGIN:VCALENDAR
VERSION:2.0
PRODID:-//ChamberMaster//Event Calendar 2.0//EN
METHOD:PUBLISH
X-PUBLISHED-TTL:P3D
REFRESH-INTERVAL:P3D
CALSCALE:GREGORIAN
BEGIN:VEVENT
DTSTART:20230720T000000Z
DTEND:20230720T020000Z
X-MICROSOFT-CDO-ALLDAYEVENT:FALSE
SUMMARY:Flagstaff Young Professionals - Entrepreneurship Workshop by Diana White
DESCRIPTION:Flagstaff Young Professionals and Moonshot at NACET have partnered together to bring you a special mentorship workshop!\n\n\n\nPresented by Diana White\, Executive Director of Moonshot at NACET\, this workshop will deliver insight into how to find a mentor and build a mentorship relationship with industry experts.\n\n\n\nJoin us at the innovative Incubator & Accelerator Campus to see what Moonshot at NACET can provide to entrepreneurs and economic development executives. If entrepreneurship isn't your style\, then gain valuable guidance into how to make the most out of FYP's Leadership Mentoring Summit coming in August 2023!
X-ALT-DESC;FMTTYPE=text/html:<p class="p1" style="margin: 0px\; font-variant-numeric: normal\; font-variant-east-asian: normal\; font-stretch: normal\; font-size: 12px\; line-height: normal\; font-family: &quot\;Times New Roman&quot\;\; color: rgb(0\, 0\, 0)\;"><span style="font-family: Calibri\, sans-serif\; font-size: 14.6667px\; background-color: rgb(255\, 255\, 255)\;">Flagstaff Young Professionals and Moonshot at NACET have partnered together to bring you a special mentorship workshop!<br />\n<br />\nPresented by Diana White\, Executive Director of Moonshot at NACET\, this workshop will deliver insight into how to find a mentor and build a mentorship relationship with industry experts.<br />\n<br />\nJoin us at the innovative Incubator &amp\; Accelerator Campus to see what Moonshot at NACET can provide to entrepreneurs and economic development executives. If entrepreneurship isn&rsquo\;t your style\, then gain valuable guidance into how to make the most out of FYP&rsquo\;s Leadership Mentoring Summit coming in August 2023!</span></p>\n
LOCATION:Moonshot at NACET 2225 N Gemini Rd Flagstaff\, AZ 86001
UID:e.1660.27935
SEQUENCE:3
DTSTAMP:20260421T015123Z
URL:https://business.flagstaffchamber.com/events/details/flagstaff-young-professionals-entrepreneurship-workshop-by-diana-white-27935
END:VEVENT

END:VCALENDAR
