BEGIN:VCALENDAR
VERSION:2.0
PRODID:-//ChamberMaster//Event Calendar 2.0//EN
METHOD:PUBLISH
X-PUBLISHED-TTL:P3D
REFRESH-INTERVAL:P3D
CALSCALE:GREGORIAN
BEGIN:VEVENT
DTSTART:20230811T150000Z
DTEND:20230811T180000Z
X-MICROSOFT-CDO-ALLDAYEVENT:FALSE
SUMMARY:Flagstaff Young Professionals Leadership Mentoring Summit
DESCRIPTION:The Leadership Mentoring Summit is Flagstaff Young Professional's signature professional development event of the year. This event is a dynamic and high-energy event described as "mentorship speed-dating".\n\n\n\nFYP attendees are assigned to a table with a mentor\, a seasoned business professional\, who then shares their career journey with the attendees. Attendees have the opportunity to ask questions and receive invaluable professional advice from our mentors.\n\n\n\nDon't miss this opportunity to learn from top business professionals in the Flagstaff Business Community.
X-ALT-DESC;FMTTYPE=text/html:<p class="p1" style="margin: 0px\; font-variant-numeric: normal\; font-variant-east-asian: normal\; font-stretch: normal\; font-size: 12px\; line-height: normal\; font-family: &quot\;Times New Roman&quot\;\; color: rgb(0\, 0\, 0)\;"><span style="font-size:20px\;">The Leadership Mentoring Summit is Flagstaff Young Professional&#39\;s signature professional development event of the year. This event is a dynamic and high-energy event described as &quot\;mentorship speed-dating&quot\;.<br />\n<br />\nFYP attendees are assigned to a table with a mentor\, a seasoned business professional\, who then shares their career journey with the attendees. Attendees have the opportunity to ask questions and receive invaluable professional advice from our mentors.<br />\n<br />\nDon&#39\;t miss this opportunity to learn from top business professionals in the Flagstaff Business Community.</span></p>\n
LOCATION:The Peaks\, A Senior Living Community 3150 N Winding Brook Road Flagstaff\, AZ 86001
UID:e.1660.28122
SEQUENCE:3
DTSTAMP:20260421T015612Z
URL:https://business.flagstaffchamber.com/events/details/flagstaff-young-professionals-leadership-mentoring-summit-28122
END:VEVENT

END:VCALENDAR
