BEGIN:VCALENDAR
VERSION:2.0
PRODID:-//ChamberMaster//Event Calendar 2.0//EN
METHOD:PUBLISH
X-PUBLISHED-TTL:P3D
REFRESH-INTERVAL:P3D
CALSCALE:GREGORIAN
BEGIN:VEVENT
DTSTART:20260513T170000Z
DTEND:20260513T190000Z
X-MICROSOFT-CDO-ALLDAYEVENT:FALSE
SUMMARY:MG Car Show Funkhana Event Presented by Gathering of the Faithful West at Flagstaff Mall
DESCRIPTION:Part of the MG Car Show\, the Funkhana event is on Wednesday where participants will drive their cars through a series of light-hearted challenges and games like an obstacle course. It will be a great spectator event as well as fun for the drivers and navigators! \n\nLocated in the South parking lot across from the Food Court mall entrance
X-ALT-DESC;FMTTYPE=text/html:<p>Part of the MG Car Show\, the&nbsp\;<strong><em>Funkhana event&nbsp\;</em></strong>is on Wednesday where&nbsp\;participants will&nbsp\;drive their cars through a series of light-hearted challenges and games like an obstacle course. It will be&nbsp\;a great spectator event as well as fun for the drivers and navigators!&nbsp\;</p>\n\n<p>Located in the South parking lot across from the Food Court mall entrance</p>\n
LOCATION:Flagstaff Mall
UID:e.1660.36605
SEQUENCE:3
DTSTAMP:20260422T184447Z
URL:https://business.flagstaffchamber.com/events/details/mg-car-show-funkhana-event-presented-by-gathering-of-the-faithful-west-at-flagstaff-mall-36605
END:VEVENT

END:VCALENDAR
