BEGIN:VCALENDAR
VERSION:2.0
PRODID:-//ChamberMaster//Event Calendar 2.0//EN
METHOD:PUBLISH
X-PUBLISHED-TTL:P3D
REFRESH-INTERVAL:P3D
CALSCALE:GREGORIAN
BEGIN:VEVENT
DTSTART:20230809T190000Z
DTEND:20230809T200000Z
X-MICROSOFT-CDO-ALLDAYEVENT:FALSE
SUMMARY:New Member Connection - White Dove Coffee
DESCRIPTION:Join us for our New Member Connection at White Dove Coffee!\n\n\n\nDuring this event you will have the opportunity to meet other new Members and Chamber Staff. You'll be able to share information about your company and learn about the benefits of Membership.\n\n\n\nEnjoy complimentary coffee and muffins or pastries!
X-ALT-DESC;FMTTYPE=text/html:<span style="font-size:18px\;">Join us for our New Member Connection at White Dove Coffee!<br />\n<br />\nDuring this event you will have the opportunity to meet other new Members and Chamber Staff. You&#39\;ll be able to share information about your company and learn about the benefits of Membership.<br />\n<br />\nEnjoy complimentary coffee and muffins or pastries!</span><br />\n<br />\n&nbsp\;
LOCATION:
UID:e.1660.28130
SEQUENCE:3
DTSTAMP:20260421T020947Z
URL:https://business.flagstaffchamber.com/events/details/new-member-connection-white-dove-coffee-28130
END:VEVENT

END:VCALENDAR
