BEGIN:VCALENDAR
VERSION:2.0
PRODID:-//ChamberMaster//Event Calendar 2.0//EN
METHOD:PUBLISH
X-PUBLISHED-TTL:P3D
REFRESH-INTERVAL:P3D
CALSCALE:GREGORIAN
BEGIN:VEVENT
DTSTART:20240909T200000Z
DTEND:20240910T010000Z
X-MICROSOFT-CDO-ALLDAYEVENT:FALSE
SUMMARY:NPA GOLF TOURNAMENT
DESCRIPTION:Northland Preparatory Academy (NPA) is happy to open up registrations for golfing/ sponsorships for this year's tournament\, which should be just as much fun as the tournaments in 2019\, 2021\, 2022 and 2023. If you have interest in participating\, please proceed below. THANK YOU!!\n\n\n\nProceeds benefit NPA STEAM programs.\n\n\n\nFor more information or to register\, please click here:  NPA Golf Tournament 2024 - Northland Preparatory Academy
X-ALT-DESC;FMTTYPE=text/html:<p style="box-sizing: border-box\; margin: 0px\; padding: 0px 0px 1em\; border: 0px\; outline: 0px\; font-size: 16px\; text-size-adjust: 100%\; vertical-align: baseline\; background: rgb(255\, 255\, 255)\; color: rgb(102\, 102\, 102)\; font-family: Montserrat\, Helvetica\, Arial\, Lucida\, sans-serif\;">Northland Preparatory Academy (NPA) is happy to open up registrations for golfing/ sponsorships for this year&rsquo\;s tournament\, which should be just as much fun as the tournaments in 2019\, 2021\, 2022 and 2023. If you have interest in participating\, please proceed below. THANK YOU!!<br />\n<br />\n<span style="color: rgb(102\, 102\, 102)\; font-family: Montserrat\, Helvetica\, Arial\, Lucida\, sans-serif\; font-size: 16px\; background-color: rgb(255\, 255\, 255)\;">Proceeds benefit NPA STEAM programs.<br />\n<br />\nFor more information or&nbsp\;to&nbsp\;register\, please click here:&nbsp\;&nbsp\;</span><a href="https://northlandprep.org/npa-golf-tournament-2024/">NPA Golf Tournament 2024 - Northland Preparatory Academy</a></p>\n\n<div class="et_pb_module et_pb_text et_pb_text_2 de-special-heading et_pb_text_align_left et_pb_bg_layout_light et_had_animation" style="box-sizing: border-box\; margin: 0px 0px 29.6875px\; padding: 0px\; border: 0px\; outline: 0px\; font-size: 14px\; text-size-adjust: 100%\; vertical-align: baseline\; background: 50% center / cover no-repeat rgb(255\, 255\, 255)\; position: relative\; animation-timing-function: linear\; animation-duration: 0.2s\; overflow-wrap: break-word\; color: rgb(102\, 102\, 102)\; font-family: &quot\;Open Sans&quot\;\, Arial\, sans-serif\;">\n<div class="et_pb_text_inner" style="box-sizing: border-box\; margin: 0px\; padding: 0px\; border: 0px\; outline: 0px\; text-size-adjust: 100%\; vertical-align: baseline\; background: transparent\; position: relative\;">\n<h3 style="box-sizing: border-box\; margin: 0px\; padding: 0px\; border: 0px\; outline: 0px\; font-size: 40px\; text-size-adjust: 100%\; vertical-align: baseline\; background: transparent\; color: rgb(84\, 28\, 36) !important\; line-height: 1em !important\; font-weight: 300\; font-family: Montserrat\, Helvetica\, Arial\, Lucida\, sans-serif\; text-transform: uppercase\; letter-spacing: 1px\;">&nbsp\;</h3>\n</div>\n</div>\n
LOCATION:Flagstaff Ranch Golf Club 3850 S Lariat Loop Flagstaff\, AZ 86005
UID:e.1660.30983
SEQUENCE:3
DTSTAMP:20260419T214051Z
URL:https://business.flagstaffchamber.com/events/details/npa-golf-tournament-30983
END:VEVENT

END:VCALENDAR
