BEGIN:VCALENDAR
VERSION:2.0
PRODID:-//ChamberMaster//Event Calendar 2.0//EN
METHOD:PUBLISH
X-PUBLISHED-TTL:P3D
REFRESH-INTERVAL:P3D
CALSCALE:GREGORIAN
BEGIN:VEVENT
DTSTART:20260720T153000Z
DTEND:20260720T230000Z
X-MICROSOFT-CDO-ALLDAYEVENT:FALSE
SUMMARY:Odyssey Camps - Buzzers and Burglar Alarms Summer Camp held at Flagstaff Science Center in Moonshot
DESCRIPTION:For kids age 7-8\n\n \n\nZap into the world of circuits in this electrifying camp! \n\n \n\nDissect everyday electronics to find out what makes them tick. \n\n \n\nMake fun projects like lie detectors\, panic buttons\, and musical bananas with hands-on tinkering and creative circuit building!
X-ALT-DESC;FMTTYPE=text/html:<div>&nbsp\;</div>\n\n<div><span style="font-size:14.0pt\;">For kids age 7-8</span><br />\n&nbsp\;<br />\n<span style="font-size:14.0pt\;">Zap into the world of circuits in this electrifying camp! </span><br />\n&nbsp\;<br />\n<span style="font-size:14.0pt\;">Dissect everyday electronics to find out what makes them tick. </span><br />\n&nbsp\;<br />\n<span style="font-size:14.0pt\;">Make fun projects like lie detectors\, panic buttons\, and musical bananas with hands-on tinkering and creative circuit building!</span><br />\n&nbsp\;</div>\n
LOCATION:Flagstaff Science Center at Moonshot
UID:e.1660.35199
SEQUENCE:3
DTSTAMP:20260422T084555Z
URL:https://business.flagstaffchamber.com/events/details/odyssey-camps-buzzers-and-burglar-alarms-summer-camp-held-at-flagstaff-science-center-in-moonshot-35199
END:VEVENT

END:VCALENDAR
