BEGIN:VCALENDAR
VERSION:2.0
PRODID:-//ChamberMaster//Event Calendar 2.0//EN
METHOD:PUBLISH
X-PUBLISHED-TTL:P3D
REFRESH-INTERVAL:P3D
CALSCALE:GREGORIAN
BEGIN:VEVENT
DTSTART:20260713T153000Z
DTEND:20260713T230000Z
X-MICROSOFT-CDO-ALLDAYEVENT:FALSE
SUMMARY:Odyssey Camps - YouTube University Summer Camp held at Flagstaff Science Center in Moonshot
DESCRIPTION:For kids age 9-10\n\n \n\nFind your fame as a science-studded YouTuber! \n\n \n\nExplore the science behind the scenes who knows\, maybe you'll become the next Bill Nye the Science Guy or Emily Calandrelli the Space Gal. \n\n \n\nFilm explosive reactions\, silly engineering face-offs\, and bouncing slime experiments with the production tools that bring your ideas to a screen near you. \n\n \n\nCreate funny\, smart science videos made for the spotlight sure to amaze your friends and family.
X-ALT-DESC;FMTTYPE=text/html:<span style="font-size:14.0pt\;">For kids age 9-10</span><br />\n&nbsp\;<br />\n<span style="font-size:14.0pt\;">Find your fame as a science-studded YouTuber! </span><br />\n&nbsp\;<br />\n<span style="font-size:14.0pt\;">Explore the science behind the scenes&mdash\;who knows\, maybe you&rsquo\;ll become the next Bill Nye the Science Guy or Emily Calandrelli the Space Gal. </span><br />\n&nbsp\;<br />\n<span style="font-size:14.0pt\;">Film explosive reactions\, silly engineering face-offs\, and bouncing slime experiments with the production tools that bring your ideas to a screen near you. </span><br />\n&nbsp\;<br />\n<span style="font-size:14.0pt\;">Create funny\, smart science videos made for the spotlight&mdash\;sure to amaze your friends and family.</span><br />\n&nbsp\;
LOCATION:Flagstaff Science Center at Moonshot 2201 N Gemini Dr Flagstaff\, AZ 86001
UID:e.1660.35197
SEQUENCE:3
DTSTAMP:20260422T085914Z
URL:https://business.flagstaffchamber.com/events/details/odyssey-camps-youtube-university-summer-camp-held-at-flagstaff-science-center-in-moonshot-35197
END:VEVENT

END:VCALENDAR
