BEGIN:VCALENDAR
VERSION:2.0
PRODID:-//ChamberMaster//Event Calendar 2.0//EN
METHOD:PUBLISH
X-PUBLISHED-TTL:P3D
REFRESH-INTERVAL:P3D
CALSCALE:GREGORIAN
BEGIN:VEVENT
DTSTART:20260424T190000Z
DTEND:20260424T200000Z
X-MICROSOFT-CDO-ALLDAYEVENT:FALSE
SUMMARY:Plan & Protect - a Free Estate Planning Workshop
DESCRIPTION:Join attorney Rose Winkeler for a FREE informative and interactive workshop where she will go over \n\n\n	How to maximize the inheritance you leave to your children.\n	The pitfalls of putting assets into your children's names.\n	\n	The difference between a will and a trust.\n	\n	How to avoid the expenses and delays of probate.\n	How to keep your affairs private.\n	How to protect yourself in the event of a disability.\n	How to avoid the most common estate planning mistakes.\n\n\nAnd so much more
X-ALT-DESC;FMTTYPE=text/html:<p>Join attorney Rose Winkeler for a FREE informative and interactive workshop where she will go over&hellip\;</p>\n\n<ul>\n	<li><span style="background-color:rgba(0\, 0\, 0\, 0)">How to maximize the inheritance you leave to your children.</span></li>\n	<li><span style="background-color:rgba(0\, 0\, 0\, 0)">The pitfalls of putting assets into your children&rsquo\;s names.</span></li>\n	<li>\n	<p>The difference between a will and a trust.</p>\n	</li>\n	<li>How to avoid the expenses and delays of probate.</li>\n	<li>How to keep your affairs private.</li>\n	<li>How to protect yourself in the event of a disability.</li>\n	<li>How to avoid the most common estate planning mistakes.</li>\n</ul>\n\n<p>And so much more&hellip\;</p>\n
LOCATION:The Outpost 2404 East Route 66 Flagstaff\, AZ 86004
UID:e.1660.36604
SEQUENCE:3
DTSTAMP:20260421T224319Z
URL:https://business.flagstaffchamber.com/events/details/plan-protect-a-free-estate-planning-workshop-04-24-2026-36604
END:VEVENT

END:VCALENDAR
