BEGIN:VCALENDAR
VERSION:2.0
PRODID:-//ChamberMaster//Event Calendar 2.0//EN
METHOD:PUBLISH
X-PUBLISHED-TTL:P3D
REFRESH-INTERVAL:P3D
CALSCALE:GREGORIAN
BEGIN:VEVENT
DTSTART:20260502T170000Z
DTEND:20260502T190000Z
X-MICROSOFT-CDO-ALLDAYEVENT:FALSE
SUMMARY:Sewing 101 - Make a Tote Bag
DESCRIPTION:New to sewing or ready to build stronger basics? Sewing 101 is a hands-on\, beginner-friendly workshop designed to help you feel confident using a sewing machine and completing simple projects.\n\n\n\nIn this class\, you'll learn the main components of a sewing machine\, how to properly thread and operate it\, and how to use different stitches and stitch lengths for various projects. You'll also practice essential skills like hemming\, choosing the right fabric\, and troubleshooting common sewing issues.\n\n\n\nYou'll put these skills into action by creating a simple tote bag to take home giving you practical experience you can build on for future projects.\n\n\n\nYou'll Learn:\n\n- Sewing machine parts and setup\n\n- How to choose stitches and stitch lengths\n\n- Basic hemming techniques\n\n- Fabric selection for different projects\n\n- Troubleshooting common sewing problems\n\n\n\nStudents are encouraged to bring their home sewing machine\, if available. By learning on your own sewing machine\, you will be able to easily troubleshoot and transfer your skills to your home projects. No sewing machine? No worries! Coco-op has sewing machines and all the tools needed to complete this class.\n\n\n\nAll materials included. No prior experience required.
X-ALT-DESC;FMTTYPE=text/html:<div style="text-align:center">\n<div style="background:0px 0px\; border:0px\; padding:0px">\n<div style="background:0px 0px\; border:0px\; padding:0px">\n<p>New to sewing or ready to build stronger basics? Sewing 101 is a hands-on\, beginner-friendly workshop designed to help you feel confident using a sewing machine and completing simple projects.<br />\n<br />\nIn this class\, you&rsquo\;ll learn the main components of a sewing machine\, how to properly thread and operate it\, and how to use different stitches and stitch lengths for various projects. You&rsquo\;ll also practice essential skills like hemming\, choosing the right fabric\, and troubleshooting common sewing issues.<br />\n<br />\nYou&rsquo\;ll put these skills into action by creating a simple tote bag to take home&mdash\;giving you practical experience you can build on for future projects.<br />\n<br />\nYou&rsquo\;ll Learn:<br />\n-&nbsp\;Sewing machine parts and setup<br />\n-&nbsp\;How to choose stitches and stitch lengths<br />\n-&nbsp\;Basic hemming techniques<br />\n-&nbsp\;Fabric selection for different projects<br />\n-&nbsp\;Troubleshooting common sewing problems<br />\n<br />\nStudents are encouraged to bring their home sewing machine\, if available. By learning on your own sewing machine\, you will be able to easily troubleshoot and transfer your skills to your home projects. No sewing machine? No worries! Coco-op has sewing machines and all the tools needed to complete this class.<br />\n<br />\nAll materials included. No prior experience required.</p>\n</div>\n</div>\n</div>\n
LOCATION:Coco-op Makerspace Flagstaff 1155 W Kaibab Ln Flagstaff\, AZ
UID:e.1660.36606
SEQUENCE:3
DTSTAMP:20260422T183837Z
URL:https://business.flagstaffchamber.com/events/details/sewing-101-make-a-tote-bag-36606
END:VEVENT

END:VCALENDAR
