BEGIN:VCALENDAR
VERSION:2.0
PRODID:-//ChamberMaster//Event Calendar 2.0//EN
METHOD:PUBLISH
X-PUBLISHED-TTL:P3D
REFRESH-INTERVAL:P3D
CALSCALE:GREGORIAN
BEGIN:VEVENT
DTSTART:20250130T233000Z
DTEND:20250131T010000Z
X-MICROSOFT-CDO-ALLDAYEVENT:FALSE
SUMMARY:SOUP THERE IT IS
DESCRIPTION:SOUP TASTINGS | LIVE ENTERTAINMENT | AWARDS FOR BEST SOUP \n\n\n\nBring your best batch of homemade soup to enter our competition or simply come out to enjoy some tasty recipes!\n\n\n\nCall or Text 928-310-8175 to enter your soup.
X-ALT-DESC;FMTTYPE=text/html:SOUP TASTINGS | LIVE ENTERTAINMENT | AWARDS FOR BEST SOUP&nbsp\;<br />\n<br />\nBring your best batch of homemade soup to enter our competition or simply come out to enjoy some tasty recipes!<br />\n<br />\nCall or Text 928-310-8175 to enter your soup.
LOCATION:3100 E Butler Ave Flagstaff AZ 86004
UID:e.1660.31853
SEQUENCE:3
DTSTAMP:20260419T134631Z
URL:https://business.flagstaffchamber.com/events/details/soup-there-it-is-31853
END:VEVENT

END:VCALENDAR
